BEGIN:VCALENDAR
VERSION:2.0
PRODID:-//hacksw/handcal//NONSGML v1.0//EN
BEGIN:VEVENT
SUMMARY:1er Tour des Interclubs N1-N2 et Reg a Caen-Bernay-Querqueville-Rouen
UID:d31b70e8-c899-4a0a-b43c-ba1e28c76fda
DTSTART:20260501T220000Z
DTEND:20260502T220000Z
LOCATION:Localisation   
CATEGORIES:Sportif
STATUS:
URL;VALUE=URI:https://www.usomathle.com/evenements/2026/05/02/1er-tour-des-interclubs-n1-n2-et-reg-a-caen-bernay-querqueville-rouen-2427144
END:VEVENT
END:VCALENDAR
