BEGIN:VCALENDAR
VERSION:2.0
PRODID:-//hacksw/handcal//NONSGML v1.0//EN
BEGIN:VEVENT
SUMMARY:Regionaux  Masters Saint Lo
UID:072bbf00-cf29-4f3f-aa24-3e886e5c9771
DTSTART:20260508T220000Z
DTEND:20260509T220000Z
LOCATION:Localisation   
CATEGORIES:Sportif
STATUS:
URL;VALUE=URI:https://www.usomathle.com/evenements/2026/05/09/regionaux-masters-saint-lo-2427145
END:VEVENT
END:VCALENDAR
