BEGIN:VCALENDAR
VERSION:2.0
PRODID:-//hacksw/handcal//NONSGML v1.0//EN
BEGIN:VEVENT
SUMMARY:Epreuve de Marche sur route a Caen
UID:24ec9298-645d-4f2e-a9d3-6987060053ad
DTSTART:20260523T220000Z
DTEND:20260524T220000Z
LOCATION:Localisation   
CATEGORIES:Sportif
STATUS:
URL;VALUE=URI:https://www.usomathle.com/evenements/2026/05/24/epreuve-de-marche-sur-route-a-caen-2429985
END:VEVENT
END:VCALENDAR
