BEGIN:VCALENDAR
VERSION:2.0
PRODID:-//hacksw/handcal//NONSGML v1.0//EN
BEGIN:VEVENT
SUMMARY:Departementaux 8228 + Epreuves Ouvertes Sauts verticaux Caen
UID:2c8e3104-6af5-403c-981d-06ccd85728f2
DTSTART:20260526T220000Z
DTEND:20260527T220000Z
LOCATION:Localisation   
CATEGORIES:Sportif
STATUS:
URL;VALUE=URI:https://www.usomathle.com/evenements/2026/05/27/departementaux-8228-epreuves-ouvertes-sauts-verticaux-caen-2427170
END:VEVENT
END:VCALENDAR
