BEGIN:VCALENDAR
VERSION:2.0
PRODID:-//hacksw/handcal//NONSGML v1.0//EN
BEGIN:VEVENT
SUMMARY:Meeting de Saint Lo
UID:33ed678a-807c-40d5-8ea6-53fc8d6b9772
DTSTART:20260612T220000Z
DTEND:20260613T220000Z
LOCATION:Localisation   
CATEGORIES:Sportif
STATUS:
URL;VALUE=URI:https://www.usomathle.com/evenements/2026/06/13/meeting-de-saint-lo-2429922
END:VEVENT
END:VCALENDAR
